BEGIN:VCALENDAR
VERSION:2.0
PRODID:-//Provincial Grand Lodge of Mark Master Masons of East Lancashire - ECPv6.11.2.1//NONSGML v1.0//EN
CALSCALE:GREGORIAN
METHOD:PUBLISH
X-WR-CALNAME:Provincial Grand Lodge of Mark Master Masons of East Lancashire
X-ORIGINAL-URL:https://www.eastlancsmark.org
X-WR-CALDESC:Events for Provincial Grand Lodge of Mark Master Masons of East Lancashire
REFRESH-INTERVAL;VALUE=DURATION:PT1H
X-Robots-Tag:noindex
X-PUBLISHED-TTL:PT1H
BEGIN:VTIMEZONE
TZID:Europe/London
BEGIN:DAYLIGHT
TZOFFSETFROM:+0000
TZOFFSETTO:+0100
TZNAME:BST
DTSTART:20290325T010000
END:DAYLIGHT
BEGIN:STANDARD
TZOFFSETFROM:+0100
TZOFFSETTO:+0000
TZNAME:GMT
DTSTART:20291028T010000
END:STANDARD
END:VTIMEZONE
BEGIN:VEVENT
DTSTART;TZID=Europe/London:20290206T180000
DTEND;TZID=Europe/London:20290206T203000
DTSTAMP:20260421T160329
CREATED:20230912T152609Z
LAST-MODIFIED:20230912T152756Z
UID:10001435-1865095200-1865104200@www.eastlancsmark.org
SUMMARY:Lathom 136 - Installation
DESCRIPTION:
URL:https://www.eastlancsmark.org/event/lathom-136-installation/2029-02-06/
LOCATION:Bury Masonic Hall\, Parsons Lane\, Bury\, Lancs\, BL9 0LY\, United Kingdom
CATEGORIES:RAM Calendar
ORGANIZER;CN="r136@eastlancsmark.org.uk":MAILTO:r136@eastlancsmark.org.uk
END:VEVENT
BEGIN:VEVENT
DTSTART;TZID=Europe/London:20290223T183000
DTEND;TZID=Europe/London:20290223T220000
DTSTAMP:20260421T160329
CREATED:20241003T140138Z
LAST-MODIFIED:20241003T140139Z
UID:10001416-1866565800-1866578400@www.eastlancsmark.org
SUMMARY:Union 171 - Meeting
DESCRIPTION:
URL:https://www.eastlancsmark.org/event/union-171-meeting-2-2/2029-02-23/
LOCATION:Rochdale Masonic Hall\, Richard Street\, Rochdale\, Lancs\, OL11 1DU\, United Kingdom
CATEGORIES:RAM Calendar
ORGANIZER;CN="r171@eastlancsmark.org.uk":MAILTO:r171@eastlancsmark.org.uk
END:VEVENT
BEGIN:VEVENT
DTSTART;TZID=Europe/London:20290227T113000
DTEND;TZID=Europe/London:20290227T153000
DTSTAMP:20260421T160329
CREATED:20230824T101221Z
LAST-MODIFIED:20250711T173226Z
UID:10001509-1866886200-1866900600@www.eastlancsmark.org
SUMMARY:Lancastrians 689 - Meeting
DESCRIPTION:
URL:https://www.eastlancsmark.org/event/lancastrians-689-meeting-2/2029-02-27/
LOCATION:Manchester Hall\, Freemasons’ Hall\, 36 Bridge Street\, Manchester\, M3 3BT\, United Kingdom
CATEGORIES:RAM Calendar
ORGANIZER;CN="r689@eastlancsmark.org.uk":MAILTO:r689@eastlancsmark.org.uk
END:VEVENT
END:VCALENDAR