BEGIN:VCALENDAR
VERSION:2.0
PRODID:-//Provincial Grand Lodge of Mark Master Masons of East Lancashire - ECPv6.11.2.1//NONSGML v1.0//EN
CALSCALE:GREGORIAN
METHOD:PUBLISH
X-ORIGINAL-URL:https://www.eastlancsmark.org
X-WR-CALDESC:Events for Provincial Grand Lodge of Mark Master Masons of East Lancashire
REFRESH-INTERVAL;VALUE=DURATION:PT1H
X-Robots-Tag:noindex
X-PUBLISHED-TTL:PT1H
BEGIN:VTIMEZONE
TZID:Europe/London
BEGIN:DAYLIGHT
TZOFFSETFROM:+0000
TZOFFSETTO:+0100
TZNAME:BST
DTSTART:20290325T010000
END:DAYLIGHT
BEGIN:STANDARD
TZOFFSETFROM:+0100
TZOFFSETTO:+0000
TZNAME:GMT
DTSTART:20291028T010000
END:STANDARD
END:VTIMEZONE
BEGIN:VEVENT
DTSTART;TZID=Europe/London:20290317T143000
DTEND;TZID=Europe/London:20290317T200000
DTSTAMP:20260421T173235
CREATED:20230825T083036Z
LAST-MODIFIED:20240430T115242Z
UID:10001402-1868452200-1868472000@www.eastlancsmark.org
SUMMARY:Mount Horeb 9004 - Installation
DESCRIPTION:meet with an Allied on the same dates
URL:https://www.eastlancsmark.org/event/mount-horeb-9004-installation/2029-03-17/
LOCATION:Radcliffe Masonic Hall\, Bury New Road\, Breightmet\, Bolton\, BL2 6QU\, United Kingdom
CATEGORIES:RAM Calendar
ORGANIZER;CN="r9004@eastlancsmark.org.uk":MAILTO:r9004@eastlancsmark.org.uk
END:VEVENT
END:VCALENDAR